BEGIN:VCALENDAR
VERSION:2.0
PRODID:-//Sabre//Sabre VObject 4.5.8//EN
CALSCALE:GREGORIAN
BEGIN:VEVENT
UID:sabre-vobject-439b5e6e-550d-4c87-a221-f06846fbb8fc
DTSTAMP:20260423T212535Z
SUMMARY:Rosenkranz und Beichtgelegenheit
DESCRIPTION:https://www2.bistum-augsburg.de/gottesdienste/rosenkranz-und-be
 ichtgelegenheit_id1722505
DTSTART;TZID=Europe/Berlin:20260523T173000
DURATION:PT30M
LOCATION:St. Martin\, Kirchplatz 8\, 85107 Baar-Ebenhausen
END:VEVENT
END:VCALENDAR
