BEGIN:VCALENDAR
VERSION:2.0
PRODID:-//Sabre//Sabre VObject 4.5.8//EN
CALSCALE:GREGORIAN
BEGIN:VEVENT
UID:sabre-vobject-fcd0b63b-7046-4820-9041-66358dfc0596
DTSTAMP:20260425T021446Z
SUMMARY:Rosenkranz
DESCRIPTION:https://www2.bistum-augsburg.de/gottesdienste/rosenkranz_id1722
 522
DTSTART;TZID=Europe/Berlin:20260509T183000
DURATION:PT30M
LOCATION:St. Peter und Paul\, Peterswörther Straße 108\, 89423 Peterswör
 th
END:VEVENT
END:VCALENDAR
