BEGIN:VCALENDAR
VERSION:2.0
PRODID:-//Sabre//Sabre VObject 4.5.8//EN
CALSCALE:GREGORIAN
BEGIN:VEVENT
UID:sabre-vobject-61710c9b-3513-4f08-a428-b3921b09d751
DTSTAMP:20260425T000016Z
SUMMARY:ENTFÄLLT!!! Rosenkranz
DESCRIPTION:https://www2.bistum-augsburg.de/gottesdienste/entfaellt-rosenkr
 anz_id1722529
DTSTART;TZID=Europe/Berlin:20260513T173000
DURATION:PT30M
LOCATION:Mariä Himmelfahrt
END:VEVENT
END:VCALENDAR
