BEGIN:VCALENDAR
VERSION:2.0
PRODID:-//Sabre//Sabre VObject 4.5.8//EN
CALSCALE:GREGORIAN
BEGIN:VEVENT
UID:sabre-vobject-e9c381b9-3527-42eb-afa6-3254e6a35749
DTSTAMP:20260424T081634Z
SUMMARY:Bittgang von Mickhausen nach Münster\, dort Hl. Messe
DESCRIPTION:https://www2.bistum-augsburg.de/gottesdienste/bittgang-von-mick
 hausen-nach-muenster-dort-hl-messe_id1722534
DTSTART;TZID=Europe/Berlin:20260511T191000
DURATION:PT30M
LOCATION:St. Wolfgang\, Pfr.-Sales-Baur-Straße 5\, 86866 Mickhausen
END:VEVENT
END:VCALENDAR
