BEGIN:VCALENDAR
VERSION:2.0
PRODID:-//Sabre//Sabre VObject 4.5.8//EN
CALSCALE:GREGORIAN
BEGIN:VEVENT
UID:sabre-vobject-d358c4a1-dfc1-47e4-be8a-a528ebb17bf7
DTSTAMP:20260424T013619Z
SUMMARY:Bittrosenkranz
DESCRIPTION:https://www2.bistum-augsburg.de/gottesdienste/bittrosenkranz_id
 1722535
DTSTART;TZID=Europe/Berlin:20260512T190000
DURATION:PT30M
LOCATION:St. Wolfgang\, Pfr.-Sales-Baur-Straße 5\, 86866 Mickhausen
END:VEVENT
END:VCALENDAR
