BEGIN:VCALENDAR
VERSION:2.0
PRODID:-//Sabre//Sabre VObject 4.5.8//EN
CALSCALE:GREGORIAN
BEGIN:VEVENT
UID:sabre-vobject-8d81b362-8471-40e8-a4fb-9c707887cb65
DTSTAMP:20260425T161731Z
SUMMARY:Hl. Messe für die verst. Angehörigen der Pfarreiengemeinschaft un
 d im Gedenken an
DESCRIPTION:https://www2.bistum-augsburg.de/gottesdienste/hl-messe-fuer-die
 -verst-angehoerigen-der-pfarreiengemeinschaft-und-im-gedenken-an_id1722556
DTSTART;TZID=Europe/Berlin:20260510T100000
DURATION:PT30M
LOCATION:St. Martin
END:VEVENT
END:VCALENDAR
