BEGIN:VCALENDAR
VERSION:2.0
PRODID:-//Sabre//Sabre VObject 4.5.8//EN
CALSCALE:GREGORIAN
BEGIN:VEVENT
UID:sabre-vobject-c7c6fd7f-7162-40ac-9073-14b9c3f3f776
DTSTAMP:20260425T234013Z
SUMMARY:Vorabendmesse zum Sonntag - Wir beten auch für unsere Geburtstags-
 Jubilare (Mai).
DESCRIPTION:https://www2.bistum-augsburg.de/gottesdienste/vorabendmesse-zum
 -sonntag-wir-beten-auch-fuer-unsere-geburtstags-jubilare-mai_id1722573
DTSTART;TZID=Europe/Berlin:20260530T180000
DURATION:PT30M
LOCATION:St. Martin\, Kirchplatz 8\, 85107 Baar-Ebenhausen
END:VEVENT
END:VCALENDAR
