BEGIN:VCALENDAR
VERSION:2.0
PRODID:-//Sabre//Sabre VObject 4.5.8//EN
CALSCALE:GREGORIAN
BEGIN:VEVENT
UID:sabre-vobject-198f82e1-eec5-4222-9fe6-7dca15945b09
DTSTAMP:20260425T214543Z
SUMMARY:Anbetung zur Barmherzigkeitsstunde
DESCRIPTION:https://www2.bistum-augsburg.de/gottesdienste/anbetung-zur-barm
 herzigkeitsstunde_id1722589
DTSTART;TZID=Europe/Berlin:20260508T150000
DURATION:PT30M
LOCATION:St. Justina
END:VEVENT
END:VCALENDAR
