BEGIN:VCALENDAR
VERSION:2.0
PRODID:-//Sabre//Sabre VObject 4.5.8//EN
CALSCALE:GREGORIAN
BEGIN:VEVENT
UID:sabre-vobject-5cc1f206-279f-4ee5-a23f-07c82525b498
DTSTAMP:20260425T141205Z
SUMMARY:Maiandacht musikalische Gestaltung: Flöte und Orgel
DESCRIPTION:https://www2.bistum-augsburg.de/gottesdienste/maiandacht-musika
 lische-gestaltung-floete-und-orgel_id1722598
DTSTART;TZID=Europe/Berlin:20260503T190000
DURATION:PT30M
LOCATION:St. Justina
END:VEVENT
END:VCALENDAR
