BEGIN:VCALENDAR
VERSION:2.0
PRODID:-//Sabre//Sabre VObject 4.5.8//EN
CALSCALE:GREGORIAN
BEGIN:VEVENT
UID:sabre-vobject-7f3593a8-6eb9-45ac-8907-352c311eeaa1
DTSTAMP:20260424T211428Z
SUMMARY:Hl. Messe
DESCRIPTION:https://www2.bistum-augsburg.de/gottesdienste/hl-messe_id172261
 8
DTSTART;TZID=Europe/Berlin:20260524T084500
DURATION:PT30M
LOCATION:St. Georg\, Ortsstraße 19\, 89437 Unterbechingen
END:VEVENT
END:VCALENDAR
