BEGIN:VCALENDAR
VERSION:2.0
PRODID:-//Sabre//Sabre VObject 4.5.8//EN
CALSCALE:GREGORIAN
BEGIN:VEVENT
UID:sabre-vobject-9e98e628-d3fc-4b82-9a09-7b6608466492
DTSTAMP:20260425T021421Z
SUMMARY:Pfarrkirche: Aussetzung des Allerheiligsten zur Ewigen Anbetung ans
 chl. Euchar. Segen
DESCRIPTION:https://www2.bistum-augsburg.de/gottesdienste/pfarrkirche-ausse
 tzung-des-allerheiligsten-zur-ewigen-anbetung-anschl-euchar-segen_id172265
 1
DTSTART;TZID=Europe/Berlin:20260510T090000
DURATION:PT30M
LOCATION:Mariä Verkündigung\, Uzstraße 1\, 86465 Welden
END:VEVENT
END:VCALENDAR
