BEGIN:VCALENDAR
VERSION:2.0
PRODID:-//Sabre//Sabre VObject 4.5.8//EN
CALSCALE:GREGORIAN
BEGIN:VEVENT
UID:sabre-vobject-00dd791a-5b9d-43cc-99bf-2ba058f45af8
DTSTAMP:20260420T021639Z
SUMMARY:Maiandacht musikalische Gestaltung: Orgel
DESCRIPTION:https://www2.bistum-augsburg.de/gottesdienste/maiandacht-musika
 lische-gestaltung-orgel_id1722660
DTSTART;TZID=Europe/Berlin:20260501T190000
DURATION:PT30M
LOCATION:St. Ulrich
END:VEVENT
END:VCALENDAR
