BEGIN:VCALENDAR
VERSION:2.0
PRODID:-//Sabre//Sabre VObject 4.5.8//EN
CALSCALE:GREGORIAN
BEGIN:VEVENT
UID:sabre-vobject-b32405a8-4969-4679-8864-260c9178c9af
DTSTAMP:20260424T062126Z
SUMMARY:Rosenkranzgebet
DESCRIPTION:https://www2.bistum-augsburg.de/gottesdienste/rosenkranzgebet_i
 d1722695
DTSTART;TZID=Europe/Berlin:20260506T162000
DURATION:PT30M
LOCATION:St. Justina
END:VEVENT
END:VCALENDAR
