BEGIN:VCALENDAR
VERSION:2.0
PRODID:-//Sabre//Sabre VObject 4.5.8//EN
CALSCALE:GREGORIAN
BEGIN:VEVENT
UID:sabre-vobject-4614091d-f878-4e9b-a6d1-9fe2dd08f396
DTSTAMP:20260424T030210Z
SUMMARY:Taufe von Mia Flenter
DESCRIPTION:https://www2.bistum-augsburg.de/gottesdienste/taufe-von-mia-fle
 nter_id1722703
DTSTART;TZID=Europe/Berlin:20260509T110000
DURATION:PT30M
LOCATION:St. Wolfgang\, Pfr.-Sales-Baur-Straße 5\, 86866 Mickhausen
END:VEVENT
END:VCALENDAR
