BEGIN:VCALENDAR
VERSION:2.0
PRODID:-//Sabre//Sabre VObject 4.5.8//EN
CALSCALE:GREGORIAN
BEGIN:VEVENT
UID:sabre-vobject-4020ec3b-6d1c-41de-b053-0463c0fd9774
DTSTAMP:20260420T055719Z
SUMMARY:Gloria Worship
DESCRIPTION:https://www2.bistum-augsburg.de/gottesdienste/gloria-worship_id
 1722705
DTSTART;TZID=Europe/Berlin:20260426T183000
DURATION:PT30M
LOCATION:Mariä Geburt
END:VEVENT
END:VCALENDAR
