BEGIN:VCALENDAR
VERSION:2.0
PRODID:-//Sabre//Sabre VObject 4.5.8//EN
CALSCALE:GREGORIAN
BEGIN:VEVENT
UID:sabre-vobject-f4def512-e67b-4a4f-812c-ae71361b9911
DTSTAMP:20260420T074512Z
SUMMARY:Hl.  Messe
DESCRIPTION:https://www2.bistum-augsburg.de/gottesdienste/hl-messe_id172271
 7
DTSTART;TZID=Europe/Berlin:20260506T183000
DURATION:PT30M
LOCATION:St. Laurentius\, Waldberger Straße 1\, 86399 Reinhartshausen
END:VEVENT
END:VCALENDAR
