BEGIN:VCALENDAR
VERSION:2.0
PRODID:-//Sabre//Sabre VObject 4.5.8//EN
CALSCALE:GREGORIAN
BEGIN:VEVENT
UID:sabre-vobject-870b9259-e650-48fb-b52a-07b3ba7f0ddc
DTSTAMP:20260426T015718Z
SUMMARY:Familienmaiandacht mit allen Erstkommunionkinder zum Dank für die 
 Erstkommunion
DESCRIPTION:https://www2.bistum-augsburg.de/gottesdienste/familienmaiandach
 t-mit-allen-erstkommunionkinder-zum-dank-fuer-die-erstkommunion_id1722721
DTSTART;TZID=Europe/Berlin:20260503T180000
DURATION:PT30M
LOCATION:St. Ulrich
END:VEVENT
END:VCALENDAR
