BEGIN:VCALENDAR
VERSION:2.0
PRODID:-//Sabre//Sabre VObject 4.5.8//EN
CALSCALE:GREGORIAN
BEGIN:VEVENT
UID:sabre-vobject-2bbf214b-a6b5-4242-9436-0fe352a2252b
DTSTAMP:20260420T071905Z
SUMMARY:Rosenkranzgebet
DESCRIPTION:https://www2.bistum-augsburg.de/gottesdienste/rosenkranzgebet_i
 d1722722
DTSTART;TZID=Europe/Berlin:20260508T182000
DURATION:PT30M
LOCATION:St. Ulrich
END:VEVENT
END:VCALENDAR
