BEGIN:VCALENDAR
VERSION:2.0
PRODID:-//Sabre//Sabre VObject 4.5.8//EN
CALSCALE:GREGORIAN
BEGIN:VEVENT
UID:sabre-vobject-8a09f958-7f32-4b38-9574-97b520cd6991
DTSTAMP:20260424T090424Z
SUMMARY:Hl. Messe
DESCRIPTION:https://www2.bistum-augsburg.de/gottesdienste/hl-messe_id172275
 6
DTSTART;TZID=Europe/Berlin:20260514T101500
DURATION:PT30M
LOCATION:Mariä Himmelfahrt\, Hauptstraße 11\, 89441 Obermedlingen
END:VEVENT
END:VCALENDAR
