BEGIN:VCALENDAR
VERSION:2.0
PRODID:-//Sabre//Sabre VObject 4.5.8//EN
CALSCALE:GREGORIAN
BEGIN:VEVENT
UID:sabre-vobject-a652c943-f2b8-4e48-8bee-b07bca22ffd2
DTSTAMP:20260424T135947Z
SUMMARY:Hl. Messe Eucharistische Monatsprozession
DESCRIPTION:https://www2.bistum-augsburg.de/gottesdienste/hl-messe-eucharis
 tische-monatsprozession_id1722761
DTSTART;TZID=Europe/Berlin:20260503T101500
DURATION:PT30M
LOCATION:St. Justina
END:VEVENT
END:VCALENDAR
