BEGIN:VCALENDAR
VERSION:2.0
PRODID:-//Sabre//Sabre VObject 4.5.8//EN
CALSCALE:GREGORIAN
BEGIN:VEVENT
UID:sabre-vobject-0fb37240-f61d-4447-9b4b-db9af9af1ed4
DTSTAMP:20260422T194235Z
SUMMARY:Beichtgelegenheit
DESCRIPTION:https://www2.bistum-augsburg.de/gottesdienste/beichtgelegenheit
 _id1722764
DTSTART;TZID=Europe/Berlin:20260502T160000
DURATION:PT30M
LOCATION:St. Justina
END:VEVENT
END:VCALENDAR
