BEGIN:VCALENDAR
VERSION:2.0
PRODID:-//Sabre//Sabre VObject 4.5.8//EN
CALSCALE:GREGORIAN
BEGIN:VEVENT
UID:sabre-vobject-8990cb07-fc6b-44a8-a680-ec1beb39075b
DTSTAMP:20260420T160834Z
SUMMARY:Taufe - Alexander Kondrat
DESCRIPTION:https://www2.bistum-augsburg.de/gottesdienste/taufe-alexander-k
 ondrat_id1722771
DTSTART;TZID=Europe/Berlin:20260502T103000
DURATION:PT30M
LOCATION:St. Felizitas
END:VEVENT
END:VCALENDAR
