BEGIN:VCALENDAR
VERSION:2.0
PRODID:-//Sabre//Sabre VObject 4.5.8//EN
CALSCALE:GREGORIAN
BEGIN:VEVENT
UID:sabre-vobject-6502df68-dda5-4e21-8c41-5590f936239a
DTSTAMP:20260426T011812Z
SUMMARY:Pfarrgottesdienst (VAM)
DESCRIPTION:https://www2.bistum-augsburg.de/gottesdienste/pfarrgottesdienst
 -vam_id1722781
DTSTART;TZID=Europe/Berlin:20260502T170000
DURATION:PT30M
LOCATION:St. Justina
END:VEVENT
END:VCALENDAR
