BEGIN:VCALENDAR
VERSION:2.0
PRODID:-//Sabre//Sabre VObject 4.5.8//EN
CALSCALE:GREGORIAN
BEGIN:VEVENT
UID:sabre-vobject-5124c93e-ef8e-4125-8478-538b9909666d
DTSTAMP:20260422T143512Z
SUMMARY:Rosenkranzgebet
DESCRIPTION:https://www2.bistum-augsburg.de/gottesdienste/rosenkranzgebet_i
 d1722784
DTSTART;TZID=Europe/Berlin:20260426T130000
DURATION:PT30M
LOCATION:St. Stephan
END:VEVENT
END:VCALENDAR
