BEGIN:VCALENDAR
VERSION:2.0
PRODID:-//Sabre//Sabre VObject 4.5.8//EN
CALSCALE:GREGORIAN
BEGIN:VEVENT
UID:sabre-vobject-67682f19-12c5-4566-ab34-95f15a2fa4a3
DTSTAMP:20260420T154707Z
SUMMARY:Rosenkranz a.d. Lourdesgrotte
DESCRIPTION:https://www2.bistum-augsburg.de/gottesdienste/rosenkranz-a-d-lo
 urdesgrotte_id1722795
DTSTART;TZID=Europe/Berlin:20260503T150000
DURATION:PT30M
LOCATION:Maria Immaculata
END:VEVENT
END:VCALENDAR
