BEGIN:VCALENDAR
VERSION:2.0
PRODID:-//Sabre//Sabre VObject 4.5.8//EN
CALSCALE:GREGORIAN
BEGIN:VEVENT
UID:sabre-vobject-b074843c-c183-4af0-9a7c-3a714498a625
DTSTAMP:20260423T193234Z
SUMMARY:Rosenkranz für den Frieden in der Welt
DESCRIPTION:https://www2.bistum-augsburg.de/gottesdienste/rosenkranz-fuer-d
 en-frieden-in-der-welt_id1722803
DTSTART;TZID=Europe/Berlin:20260430T090000
DURATION:PT30M
LOCATION:Maria Immaculata
END:VEVENT
END:VCALENDAR
