BEGIN:VCALENDAR
VERSION:2.0
PRODID:-//Sabre//Sabre VObject 4.5.8//EN
CALSCALE:GREGORIAN
BEGIN:VEVENT
UID:sabre-vobject-5c708102-fa8c-4f8d-ba21-88e31cf55b9b
DTSTAMP:20260423T035626Z
SUMMARY:Heilige Messe im Seniorenzentrum
DESCRIPTION:https://www2.bistum-augsburg.de/gottesdienste/heilige-messe-im-
 seniorenzentrum_id1722806
DTSTART;TZID=Europe/Berlin:20260428T160000
DURATION:PT30M
LOCATION:Maria Immaculata
END:VEVENT
END:VCALENDAR
