BEGIN:VCALENDAR
VERSION:2.0
PRODID:-//Sabre//Sabre VObject 4.5.8//EN
CALSCALE:GREGORIAN
BEGIN:VEVENT
UID:sabre-vobject-6a8a04a2-faa8-44d5-9ae5-73170c31d950
DTSTAMP:20260423T021529Z
SUMMARY:Maiandacht mit Solistin
DESCRIPTION:https://www2.bistum-augsburg.de/gottesdienste/maiandacht-mit-so
 listin_id1722831
DTSTART;TZID=Europe/Berlin:20260501T183000
DURATION:PT30M
LOCATION:St. Felizitas
END:VEVENT
END:VCALENDAR
