BEGIN:VCALENDAR
VERSION:2.0
PRODID:-//Sabre//Sabre VObject 4.5.8//EN
CALSCALE:GREGORIAN
BEGIN:VEVENT
UID:sabre-vobject-5574bac5-7c8a-423f-b27a-6e3af6511eab
DTSTAMP:20260423T190318Z
SUMMARY:Hl.  Messe
DESCRIPTION:https://www2.bistum-augsburg.de/gottesdienste/hl-messe_id172283
 4
DTSTART;TZID=Europe/Berlin:20260428T183000
DURATION:PT30M
LOCATION:Zur Heiligen Familie
END:VEVENT
END:VCALENDAR
