BEGIN:VCALENDAR
VERSION:2.0
PRODID:-//Sabre//Sabre VObject 4.5.8//EN
CALSCALE:GREGORIAN
BEGIN:VEVENT
UID:sabre-vobject-c3f4d951-6596-4581-9897-1d3400bacbca
DTSTAMP:20260424T114917Z
SUMMARY:VAM
DESCRIPTION:https://www2.bistum-augsburg.de/gottesdienste/vam_id1722836
DTSTART;TZID=Europe/Berlin:20260425T180000
DURATION:PT30M
LOCATION:St. Laurentius\, Waldberger Straße 1\, 86399 Reinhartshausen
END:VEVENT
END:VCALENDAR
