BEGIN:VCALENDAR
VERSION:2.0
PRODID:-//Sabre//Sabre VObject 4.5.8//EN
CALSCALE:GREGORIAN
BEGIN:VEVENT
UID:sabre-vobject-17716204-25bd-4b1c-a9a6-fad89eb8b3d5
DTSTAMP:20260425T034239Z
SUMMARY:Erstkommunion Singoldschule
DESCRIPTION:https://www2.bistum-augsburg.de/gottesdienste/erstkommunion-sin
 goldschule_id1722848
DTSTART;TZID=Europe/Berlin:20260426T100000
DURATION:PT30M
LOCATION:St. Felizitas
END:VEVENT
END:VCALENDAR
