BEGIN:VCALENDAR
VERSION:2.0
PRODID:-//Sabre//Sabre VObject 4.5.8//EN
CALSCALE:GREGORIAN
BEGIN:VEVENT
UID:sabre-vobject-bedf15ed-ea7c-4d50-9ba5-76cace486c01
DTSTAMP:20260419T224049Z
SUMMARY:Trauung von Sandra Diepold und Raphael Marzorati
DESCRIPTION:https://www2.bistum-augsburg.de/gottesdienste/trauung-von-sandr
 a-diepold-und-raphael-marzorati_id1722879
DTSTART;TZID=Europe/Berlin:20260502T140000
DURATION:PT30M
LOCATION:St. Martin
END:VEVENT
END:VCALENDAR
