BEGIN:VCALENDAR
VERSION:2.0
PRODID:-//Sabre//Sabre VObject 4.5.8//EN
CALSCALE:GREGORIAN
BEGIN:VEVENT
UID:sabre-vobject-8cf736df-fac6-4f20-aa80-71bc42cfa369
DTSTAMP:20260425T021501Z
SUMMARY:Messfeier für
DESCRIPTION:https://www2.bistum-augsburg.de/gottesdienste/messfeier-fuer_id
 1722884
DTSTART;TZID=Europe/Berlin:20260520T190000
DURATION:PT30M
LOCATION:St. Vitus\, Hauptstraße 15\, 86465 Lauterbrunn
END:VEVENT
END:VCALENDAR
