BEGIN:VCALENDAR
VERSION:2.0
PRODID:-//Sabre//Sabre VObject 4.5.8//EN
CALSCALE:GREGORIAN
BEGIN:VEVENT
UID:sabre-vobject-fe24bdc0-d178-4d70-9a32-1057d5744784
DTSTAMP:20260422T205415Z
SUMMARY:Vorabendmesse für
DESCRIPTION:https://www2.bistum-augsburg.de/gottesdienste/vorabendmesse-fue
 r_id1722909
DTSTART;TZID=Europe/Berlin:20260502T190000
DURATION:PT30M
LOCATION:St. Leonhard\, Ludwig-Rif-Straße 32\, 86465 Reutern
END:VEVENT
END:VCALENDAR
