BEGIN:VCALENDAR
VERSION:2.0
PRODID:-//Sabre//Sabre VObject 4.5.8//EN
CALSCALE:GREGORIAN
BEGIN:VEVENT
UID:sabre-vobject-1cc50350-7bf5-4469-af4d-d71c369cd3a0
DTSTAMP:20260423T035457Z
SUMMARY:Messfeier für
DESCRIPTION:https://www2.bistum-augsburg.de/gottesdienste/messfeier-fuer_id
 1722938
DTSTART;TZID=Europe/Berlin:20260429T190000
DURATION:PT30M
LOCATION:St. Vitus\, Hauptstraße 15\, 86465 Lauterbrunn
END:VEVENT
END:VCALENDAR
