BEGIN:VCALENDAR
VERSION:2.0
PRODID:-//Sabre//Sabre VObject 4.5.8//EN
CALSCALE:GREGORIAN
BEGIN:VEVENT
UID:sabre-vobject-d69566d1-11bb-4bbf-88a5-3ead57451874
DTSTAMP:20260424T161725Z
SUMMARY:Erste feierliche Maiandacht für Reutern u. Welden an der Lourdeska
 pelle\n(Bei schlechtem Wetter findet die Maiandacht in der Pfarrkirche Reu
 tern statt)
DESCRIPTION:https://www2.bistum-augsburg.de/gottesdienste/erste-feierliche-
 maiandacht-fuer-reutern-u-welden-an-der-lourdeskapelle-bei-schlechtem-wett
 er-findet-die-maiandacht-in-der-pfarrkirche-reutern-statt_id1722943
DTSTART;TZID=Europe/Berlin:20260501T190000
DURATION:PT30M
LOCATION:St. Leonhard\, Ludwig-Rif-Straße 32\, 86465 Reutern
END:VEVENT
END:VCALENDAR
