BEGIN:VCALENDAR
VERSION:2.0
PRODID:-//Sabre//Sabre VObject 4.5.8//EN
CALSCALE:GREGORIAN
BEGIN:VEVENT
UID:sabre-vobject-1b19f5c2-9940-47ab-8447-ccd9940a8d9a
DTSTAMP:20260424T121354Z
SUMMARY:Rosenkranz der Marianischen Männerkongregation
DESCRIPTION:https://www2.bistum-augsburg.de/gottesdienste/rosenkranz-der-ma
 rianischen-maennerkongregation_id1722950
DTSTART;TZID=Europe/Berlin:20260426T094500
DURATION:PT30M
LOCATION:St. Martin
END:VEVENT
END:VCALENDAR
