BEGIN:VCALENDAR
VERSION:2.0
PRODID:-//Sabre//Sabre VObject 4.5.8//EN
CALSCALE:GREGORIAN
BEGIN:VEVENT
UID:sabre-vobject-6d7e976e-e206-496d-9b3e-7b52bbba6b50
DTSTAMP:20260425T223219Z
SUMMARY:Wortgottesfeier
DESCRIPTION:https://www2.bistum-augsburg.de/gottesdienste/wortgottesfeier_i
 d1722951
DTSTART;TZID=Europe/Berlin:20260428T183000
DURATION:PT30M
LOCATION:St. Martin
END:VEVENT
END:VCALENDAR
