BEGIN:VCALENDAR
VERSION:2.0
PRODID:-//Sabre//Sabre VObject 4.5.8//EN
CALSCALE:GREGORIAN
BEGIN:VEVENT
UID:sabre-vobject-3a733abc-8567-460b-841f-7df1b8ab5619
DTSTAMP:20260424T151108Z
SUMMARY:Vorabendmesse als Dankgottesdienst der Erstkommunionkinder
DESCRIPTION:https://www2.bistum-augsburg.de/gottesdienste/vorabendmesse-als
 -dankgottesdienst-der-erstkommunionkinder_id1722954
DTSTART;TZID=Europe/Berlin:20260425T190000
DURATION:PT30M
LOCATION:St. Wolfgang\, Pfr.-Sales-Baur-Straße 5\, 86866 Mickhausen
END:VEVENT
END:VCALENDAR
