BEGIN:VCALENDAR
VERSION:2.0
PRODID:-//Sabre//Sabre VObject 4.5.8//EN
CALSCALE:GREGORIAN
BEGIN:VEVENT
UID:sabre-vobject-cd407cd7-da06-4fb0-993a-73943e603e8f
DTSTAMP:20260422T155709Z
SUMMARY:Taufe von Jonas Decker
DESCRIPTION:https://www2.bistum-augsburg.de/gottesdienste/taufe-von-jonas-d
 ecker_id1722964
DTSTART;TZID=Europe/Berlin:20260428T110000
DURATION:PT30M
LOCATION:St. Nikolaus\, Hauptstraße 14\, 86868 Mittelneufnach Reichertshof
 en
END:VEVENT
END:VCALENDAR
