BEGIN:VCALENDAR
VERSION:2.0
PRODID:-//Sabre//Sabre VObject 4.5.8//EN
CALSCALE:GREGORIAN
BEGIN:VEVENT
UID:sabre-vobject-51e97515-89f2-4438-9acf-24e77f99f625
DTSTAMP:20260419T173231Z
SUMMARY:Frühlingskonzert mit der Sehensander Blaskapelle\, dem Kirchenchor
  Rohrenfels und Meike und Nadine
DESCRIPTION:https://www2.bistum-augsburg.de/gottesdienste/fruehlingskonzert
 -mit-der-sehensander-blaskapelle-dem-kirchenchor-rohrenfels-und-meike-und-
 nadine_id1722984
DTSTART;TZID=Europe/Berlin:20260419T170000
DURATION:PT30M
LOCATION:St. Stephanus\, Waldstraße 4\, 86633 Sehensand
END:VEVENT
END:VCALENDAR
