BEGIN:VCALENDAR
VERSION:2.0
PRODID:-//Sabre//Sabre VObject 4.5.8//EN
CALSCALE:GREGORIAN
BEGIN:VEVENT
UID:sabre-vobject-4fa227e9-9b96-4498-9168-0707de2688f2
DTSTAMP:20260422T132341Z
SUMMARY:Maiandacht an der Steigfeldkapelle (Bei schlechtem Wetter findet di
 e Maiandacht in der Pfarrkirche Adelsried statt)
DESCRIPTION:https://www2.bistum-augsburg.de/gottesdienste/maiandacht-an-der
 -steigfeldkapelle-bei-schlechtem-wetter-findet-die-maiandacht-in-der-pfarr
 kirche-adelsried-statt_id1722998
DTSTART;TZID=Europe/Berlin:20260503T190000
DURATION:PT30M
LOCATION:Maria\, Schutz der Reisenden\, A8\, 86477 Adelsried
END:VEVENT
END:VCALENDAR
