BEGIN:VCALENDAR
VERSION:2.0
PRODID:-//Sabre//Sabre VObject 4.5.8//EN
CALSCALE:GREGORIAN
BEGIN:VEVENT
UID:sabre-vobject-4b8b60c8-0862-4d7a-97a6-42bb49be4269
DTSTAMP:20260419T204848Z
SUMMARY:Trauung des Brautpaares Susanne Oswald u. Patrick Kampschulte
DESCRIPTION:https://www2.bistum-augsburg.de/gottesdienste/trauung-des-braut
 paares-susanne-oswald-u-patrick-kampschulte_id1723045
DTSTART;TZID=Europe/Berlin:20260502T140000
DURATION:PT30M
LOCATION:St. Andreas\, Stephansrieder Straße 14\, 87776 Attenhausen
END:VEVENT
END:VCALENDAR
