BEGIN:VCALENDAR
VERSION:2.0
PRODID:-//Sabre//Sabre VObject 4.5.8//EN
CALSCALE:GREGORIAN
BEGIN:VEVENT
UID:sabre-vobject-ba5cb605-fdfb-4879-a805-c2561cf51e79
DTSTAMP:20260419T224101Z
SUMMARY:Rosenkranz der Schönstatt Pilgerkreise
DESCRIPTION:https://www2.bistum-augsburg.de/gottesdienste/rosenkranz-der-sc
 hoenstatt-pilgerkreise_id1723046
DTSTART;TZID=Europe/Berlin:20260427T190000
DURATION:PT30M
LOCATION:Mariä Himmelfahrt
END:VEVENT
END:VCALENDAR
