BEGIN:VCALENDAR
VERSION:2.0
PRODID:-//Sabre//Sabre VObject 4.5.8//EN
CALSCALE:GREGORIAN
BEGIN:VEVENT
UID:sabre-vobject-9e7ab84c-bf4c-4b2b-a45a-e905a1d56f87
DTSTAMP:20260423T144350Z
SUMMARY:Rosenkranz für den Frieden
DESCRIPTION:https://www2.bistum-augsburg.de/gottesdienste/rosenkranz-fuer-d
 en-frieden_id1723056
DTSTART;TZID=Europe/Berlin:20260429T170000
DURATION:PT30M
LOCATION:St. Bartholomäus
END:VEVENT
END:VCALENDAR
