BEGIN:VCALENDAR
VERSION:2.0
PRODID:-//Sabre//Sabre VObject 4.5.8//EN
CALSCALE:GREGORIAN
BEGIN:VEVENT
UID:sabre-vobject-6a207a03-a7ee-437c-9a7e-55f2b28d1e38
DTSTAMP:20260420T040620Z
SUMMARY:Rosenkranz für den Frieden\; anschl. stille Anbetung bis 20.00 Uhr
DESCRIPTION:https://www2.bistum-augsburg.de/gottesdienste/rosenkranz-fuer-d
 en-frieden-anschl-stille-anbetung-bis-20-00-uhr_id1723059
DTSTART;TZID=Europe/Berlin:20260420T190000
DURATION:PT30M
LOCATION:St. Martin
END:VEVENT
END:VCALENDAR
