BEGIN:VCALENDAR
VERSION:2.0
PRODID:-//Sabre//Sabre VObject 4.5.8//EN
CALSCALE:GREGORIAN
BEGIN:VEVENT
UID:sabre-vobject-a9b1d68c-b5df-4241-8ff5-9fff94fed2d2
DTSTAMP:20260420T040620Z
SUMMARY:Stille Anbetung
DESCRIPTION:https://www2.bistum-augsburg.de/gottesdienste/stille-anbetung_i
 d1723060
DTSTART;TZID=Europe/Berlin:20260426T190000
DURATION:PT30M
LOCATION:St. Martin
END:VEVENT
END:VCALENDAR
