BEGIN:VCALENDAR
VERSION:2.0
PRODID:-//Sabre//Sabre VObject 4.5.8//EN
CALSCALE:GREGORIAN
BEGIN:VEVENT
UID:sabre-vobject-be0ec60a-afce-40e3-9af3-9130fdf9c929
DTSTAMP:20260419T173212Z
SUMMARY:Morgenwanderung mit geistl. Impulsen (Treffpunkt Nordic-Walking-Par
 kplatz Tannenfleck) zur Franziskuskapelle in Stetten\; um 9.00 Uhr Morgena
 ndacht (nur bei gutem Wetter)
DESCRIPTION:https://www2.bistum-augsburg.de/gottesdienste/morgenwanderung-m
 it-geistl-impulsen-treffpunkt-nordic-walking-parkplatz-tannenfleck-zur-fra
 nziskuskapelle-in-stetten-um-9-00-uhr-morgenandacht-nur-bei-gutem-wetter_i
 d1723081
DTSTART;TZID=Europe/Berlin:20260502T070000
DURATION:PT30M
LOCATION:St. Martin
END:VEVENT
END:VCALENDAR
