BEGIN:VCALENDAR
VERSION:2.0
PRODID:-//Sabre//Sabre VObject 4.5.8//EN
CALSCALE:GREGORIAN
BEGIN:VEVENT
UID:sabre-vobject-51dcb936-75eb-4bf6-a500-09d25b9bf8a2
DTSTAMP:20260419T211445Z
SUMMARY:Heilige Messe  (Opfer für die eigene Kirche)
DESCRIPTION:https://www2.bistum-augsburg.de/gottesdienste/heilige-messe-opf
 er-fuer-die-eigene-kirche_id1723090
DTSTART;TZID=Europe/Berlin:20260503T100000
DURATION:PT30M
LOCATION:St. Michael
END:VEVENT
END:VCALENDAR
