BEGIN:VCALENDAR
VERSION:2.0
PRODID:-//Sabre//Sabre VObject 4.5.8//EN
CALSCALE:GREGORIAN
BEGIN:VEVENT
UID:sabre-vobject-e64b85d6-7e84-4efe-b17f-b51405085654
DTSTAMP:20260419T173218Z
SUMMARY:Bittgottesdienst
DESCRIPTION:https://www2.bistum-augsburg.de/gottesdienste/bittgottesdienst_
 id1723182
DTSTART;TZID=Europe/Berlin:20260513T190000
DURATION:PT30M
LOCATION:St. Nikolaus
END:VEVENT
END:VCALENDAR
